BEGIN:VCALENDAR
VERSION:2.0
PRODID:-//ChamberMaster//Event Calendar 2.0//EN
METHOD:PUBLISH
X-PUBLISHED-TTL:P3D
REFRESH-INTERVAL:P3D
CALSCALE:GREGORIAN
BEGIN:VEVENT
DTSTART:20200809T020000Z
DTEND:20200809T065500Z
X-MICROSOFT-CDO-ALLDAYEVENT:FALSE
SUMMARY:Totally Rad 80s Prom Gone Bad - Murder Mystery
DESCRIPTION:21+ Event\n\n\n\nA Night of Mullets and Mystery!\n\n\n\nWith their high school career coming to an end\, the students of\n\nMayhem High find themselves battling it out over grades\, popularity\,\n\naffection\, class rankings and what they all have been focused on for years \n\n\n\nWho will be awarded the prom king and queen title?\n\nWill it be the class president who is looking to extend his reign past the student council?\n\n\n\nThe pompom captain who has used her moves to land more than a prom court nomination?\n\n\n\nOr possibly the math team captain who is desperate to make his name in something other than academics.\n\n\n\nAs the night unfolds\, the royalty will be rewarded and an innocent life will be\n\n\n\nclaimed. From the preppie to the punk rocker\, the spaz to the stud\, the jock\n\n\n\nto the jilted all are suspected although only one is to blame. Can you find\n\n\n\nthe culprit in this crazy madness that is filled with neon\, naughtiness\n\nand narcissistic behavior?\n\n\n\nJOIN THESE TOTALLY TUBULAR TEENS\n\nAND FAR OUT FACULTY FOR A\n\nNIGHT OR MULLETS AND MAYHEM!
X-ALT-DESC;FMTTYPE=text/html:<span style="background-color:rgb(255\, 255\, 255)\; color:rgb(29\, 33\, 41)\; font-family:helvetica\,arial\,sans-serif\; font-size:14px">21+ Event</span><br />\n<br />\n<span style="background-color:rgb(255\, 255\, 255)\; color:rgb(29\, 33\, 41)\; font-family:helvetica\,arial\,sans-serif\; font-size:14px">A Night of Mullets and Mystery!</span><br />\n<br />\n<span style="background-color:rgb(255\, 255\, 255)\; color:rgb(29\, 33\, 41)\; font-family:helvetica\,arial\,sans-serif\; font-size:14px">With their high school career coming to an end\, the students of</span><br />\n<span style="background-color:rgb(255\, 255\, 255)\; color:rgb(29\, 33\, 41)\; font-family:helvetica\,arial\,sans-serif\; font-size:14px">Mayhem High find themselves battling it out over grades\, popularity\,</span><br />\n<span style="background-color:rgb(255\, 255\, 255)\; color:rgb(29\, 33\, 41)\; font-family:helvetica\,arial\,sans-serif\; font-size:14px">affection\, class rankings and what they all have been focused on for years&hellip\;</span><br />\n<br />\n<span style="background-color:rgb(255\, 255\, 255)\; color:rgb(29\, 33\, 41)\; font-family:helvetica\,arial\,sans-serif\; font-size:14px">Who will be awarded the prom king and queen title?</span><br />\n<span style="background-color:rgb(255\, 255\, 255)\; color:rgb(29\, 33\, 41)\; font-family:helvetica\,arial\,sans-serif\; font-size:14px">Will it be the class president who is looking to extend his reign past the student council?</span><br />\n<br />\n<span style="background-color:rgb(255\, 255\, 255)\; color:rgb(29\, 33\, 41)\; font-family:helvetica\,arial\,sans-serif\; font-size:14px">The pompom captain who has used her moves to land more than a prom court nomination?</span><br />\n<br />\n<span style="background-color:rgb(255\, 255\, 255)\; color:rgb(29\, 33\, 41)\; font-family:helvetica\,arial\,sans-serif\; font-size:14px">Or possibly the math team captain who is desperate to make his name in something other than academics.</span><br />\n<br />\n<span style="background-color:rgb(255\, 255\, 255)\; color:rgb(29\, 33\, 41)\; font-family:helvetica\,arial\,sans-serif\; font-size:14px">As the night unfolds\, the royalty will be rewarded and an innocent life will be</span><br />\n<br />\n<span style="background-color:rgb(255\, 255\, 255)\; color:rgb(29\, 33\, 41)\; font-family:helvetica\,arial\,sans-serif\; font-size:14px">claimed. From the preppie to the punk rocker\, the spaz to the stud\, the jock</span><br />\n<br />\n<span style="background-color:rgb(255\, 255\, 255)\; color:rgb(29\, 33\, 41)\; font-family:helvetica\,arial\,sans-serif\; font-size:14px">to the jilted&mdash\;all are suspected although only one is to blame. Can you find</span><br />\n<br />\n<span style="background-color:rgb(255\, 255\, 255)\; color:rgb(29\, 33\, 41)\; font-family:helvetica\,arial\,sans-serif\; font-size:14px">the culprit in this crazy madness that is filled with neon\, naughtiness</span><br />\n<span style="background-color:rgb(255\, 255\, 255)\; color:rgb(29\, 33\, 41)\; font-family:helvetica\,arial\,sans-serif\; font-size:14px">and narcissistic behavior?</span><br />\n<br />\n<span style="background-color:rgb(255\, 255\, 255)\; color:rgb(29\, 33\, 41)\; font-family:helvetica\,arial\,sans-serif\; font-size:14px">JOIN THESE TOTALLY TUBULAR TEENS</span><br />\n<span style="background-color:rgb(255\, 255\, 255)\; color:rgb(29\, 33\, 41)\; font-family:helvetica\,arial\,sans-serif\; font-size:14px">AND FAR OUT FACULTY FOR A</span><br />\n<span style="background-color:rgb(255\, 255\, 255)\; color:rgb(29\, 33\, 41)\; font-family:helvetica\,arial\,sans-serif\; font-size:14px">NIGHT OR MULLETS AND MAYHEM!</span>
LOCATION:Athol Community Center 30355 3rd St. Athol\, ID 83801
UID:e.3132.3073
SEQUENCE:3
DTSTAMP:20260420T055908Z
URL:https://www.haydenchamber.org/events/details/totally-rad-80s-prom-gone-bad-murder-mystery-3073
END:VEVENT

END:VCALENDAR
