BEGIN:VCALENDAR
VERSION:2.0
PRODID:-//ChamberMaster//Event Calendar 2.0//EN
METHOD:PUBLISH
X-PUBLISHED-TTL:P3D
REFRESH-INTERVAL:P3D
CALSCALE:GREGORIAN
BEGIN:VEVENT
DTSTART:20200630T230000Z
DTEND:20200701T010000Z
X-MICROSOFT-CDO-ALLDAYEVENT:FALSE
SUMMARY:Tiger King Themed Networking Event
DESCRIPTION:Tiger King Casino Mixer Tuesday\, June 30th 4p-6p Lake City Center $5 Admission Small Bites\, Cash Bar Come to network and meet new business professionals of all industries. OPTIONAL: Dress like your favorite Tiger King character\, prize for best dressed Get back in the networking scene\, bring your business cards and get ready for creative partnerships and referrals. There will be a few Casino games to play\, your admission will get you a cup of play money to win donated prizes. There will be tabletops around the perimeter of the room\, as well. There are only 3 tables left if you'd like one. Only $100. Or if you'd like to be a prize Sponsor\, you can donate a casino prize and include your marketing materials with it. Can't wait to see you! Please forward this invite to your favorite business associates to enjoy this light-hearted & productive networking mixer with you.
X-ALT-DESC;FMTTYPE=text/html:Tiger King Casino Mixer Tuesday\, June 30th 4p-6p Lake City Center $5 Admission Small Bites\, Cash Bar Come to network and meet new business professionals of all industries. OPTIONAL: Dress like your favorite Tiger King character\, prize for best dressed Get back in the networking scene\, bring your business cards and get ready for creative partnerships and referrals. There will be a few Casino games to play\, your admission will get you a cup of play money to win donated prizes. There will be tabletops around the perimeter of the room\, as well. There are only 3 tables left if you&#39\;d like one. Only $100. Or if you&#39\;d like to be a prize Sponsor\, you can donate a casino prize and include your marketing materials with it. Can&#39\;t wait to see you! Please forward this invite to your favorite business associates to enjoy this light-hearted &amp\; productive networking mixer with you.
LOCATION:Lake City Center 1916 N. Ironwood Drive\, Coeur d'Alene\, Idaho
UID:e.3132.3063
SEQUENCE:3
DTSTAMP:20260420T024515Z
URL:https://www.haydenchamber.org/events/details/tiger-king-themed-networking-event-3063
END:VEVENT

END:VCALENDAR
