BEGIN:VCALENDAR
VERSION:2.0
PRODID:-//ChamberMaster//Event Calendar 2.0//EN
METHOD:PUBLISH
X-PUBLISHED-TTL:P3D
REFRESH-INTERVAL:P3D
CALSCALE:GREGORIAN
BEGIN:VEVENT
DTSTART:20200125T020000Z
DTEND:20200127T050000Z
X-MICROSOFT-CDO-ALLDAYEVENT:FALSE
SUMMARY:The Marvelous Wonderettes
DESCRIPTION:This smash off-Broadway hit takes you to the 1958 Springfield High School prom where we meet Betty Jean\, Cindy Lou\, Missy\, and Suzy: four girls with hopes and dreams as big as their crinoline skirts! As we learn about their lives and loves\, the girls serenade us with classic '50s hits including "Lollipop\," "Dream Lover\," "Stupid Cupid\," and "Lipstick on Your Collar."
X-ALT-DESC;FMTTYPE=text/html:This smash off-Broadway hit takes you to the 1958 Springfield High School prom where we meet Betty Jean\, Cindy Lou\, Missy\, and Suzy: four girls with hopes and dreams as big as their crinoline skirts! As we learn about their lives and loves\, the girls serenade us with classic &lsquo\;50s hits including &ldquo\;Lollipop\,&rdquo\; &ldquo\;Dream Lover\,&rdquo\; &ldquo\;Stupid Cupid\,&rdquo\; and &ldquo\;Lipstick on Your Collar.&rdquo\;
LOCATION:Jacklin Arts and Cultural Center 405 N. William St\, Post Falls
UID:e.3132.2942
SEQUENCE:3
DTSTAMP:20260419T182947Z
URL:https://www.haydenchamber.org/events/details/the-marvelous-wonderettes-2942
END:VEVENT

END:VCALENDAR
