BEGIN:VCALENDAR
VERSION:2.0
PRODID:-//ChamberMaster//Event Calendar 2.0//EN
METHOD:PUBLISH
X-PUBLISHED-TTL:P3D
REFRESH-INTERVAL:P3D
CALSCALE:GREGORIAN
BEGIN:VEVENT
DTSTART:20200604T010000Z
DTEND:20200604T020000Z
X-MICROSOFT-CDO-ALLDAYEVENT:FALSE
SUMMARY:Safe Sleep 101 Live Online
DESCRIPTION:Join us live online to learn all about how to keep your baby safe during sleep! We will review the American Academy of Pediatric Safe Infant Sleep recommendations and answer ALL of your questions concerning sleep safety. Families living in ID or WA will receive a free Halo Sleep Sack mailed to them. Class is free! This class is perfect for anyone who will be caring for your baby so please bring them along! Once registered\, we will email you a Zoom link to join. Please call or text 208-557-4371 with questions.
X-ALT-DESC;FMTTYPE=text/html:Join us live online to learn all about how to keep your baby safe during sleep! We will review the American Academy of Pediatric Safe Infant Sleep recommendations and answer ALL of your questions concerning sleep safety. Families living in ID or WA will receive a free Halo Sleep Sack mailed to them. Class is free! This class is perfect for anyone who will be caring for your baby so please bring them along! Once registered\, we will email you a Zoom link to join. Please call or text 208-557-4371 with questions.
LOCATION:Online
UID:e.3132.3057
SEQUENCE:3
DTSTAMP:20260420T024531Z
URL:https://www.haydenchamber.org/events/details/safe-sleep-101-live-online-3057
END:VEVENT

END:VCALENDAR
