BEGIN:VCALENDAR
VERSION:2.0
PRODID:-//ChamberMaster//Event Calendar 2.0//EN
METHOD:PUBLISH
X-PUBLISHED-TTL:P3D
REFRESH-INTERVAL:P3D
CALSCALE:GREGORIAN
BEGIN:VEVENT
DTSTART;VALUE=DATE:20180728
DTEND;VALUE=DATE:20180729
TRANSP:TRANSPARENT
X-MICROSOFT-CDO-ALLDAYEVENT:TRUE
SUMMARY:Northern Lakes Fire Pancake Breakfast
DESCRIPTION:Pancake feed cooked by the Fire Fighters of local 4045\, and administrative staff of Northernlakes Fire. As emergency responders\, the District often deals with people in moments of crisis and the immediate aftermath. In order to be able to help during these unanticipated events\, a Benevolence Fund was established. These funds have been used to help families in our District affected by fire\, help disabled individuals with repairs needed to their homes and purchase carbon monoxide/smoke detectors for those unable to afford them. All proceeds from this event go to that Benevolence Fund.
X-ALT-DESC;FMTTYPE=text/html:<div style="font-style: italic\;"><span style="font-size:12px">Pancake feed cooked by the Fire Fighters of local 4045\, and administrative staff of Northernlakes Fire.&nbsp\;As emergency responders\, the District often deals with people in moments of crisis and the immediate aftermath. In order to be able to help during these unanticipated events\, a Benevolence Fund was established. These funds have been used to help families in our District affected by fire\, help disabled individuals with repairs needed to their homes and purchase carbon monoxide/smoke detectors for those unable to afford them. All proceeds from this event go to that Benevolence Fund.</span></div>\n\n<h2 style="font-style:italic\;"><br />\n<span style="font-size:12px">&nbsp\;</span></h2>\n
LOCATION:Northern Lakes Fire Station 1 125 W Hayden Ave Hayden ID\, 83835
UID:e.3132.1384
SEQUENCE:3
DTSTAMP:20260420T020850Z
URL:https://www.haydenchamber.org/events/details/northern-lakes-fire-pancake-breakfast-1384
END:VEVENT

END:VCALENDAR
