BEGIN:VCALENDAR
VERSION:2.0
PRODID:-//ChamberMaster//Event Calendar 2.0//EN
METHOD:PUBLISH
X-PUBLISHED-TTL:P3D
REFRESH-INTERVAL:P3D
CALSCALE:GREGORIAN
BEGIN:VEVENT
DTSTART:20200814T010000Z
DTEND:20200814T040000Z
X-MICROSOFT-CDO-ALLDAYEVENT:FALSE
SUMMARY:North Idaho's Got Talent Season 5
DESCRIPTION:North Idaho's search for a star. A 5 week talent competition. August 13th is the 4th Thursday Night of the competition. This evening is a night of performances from the top contestants of each of the 3 prior open auditions. Winners of the semifinals will perform next Thursday at the Kroc Center to then result in one and only winner. The winner receives $1500 to go towards travel fees to audition for Tv Show of choice: America's Got Talent\, The Voice or American Idol. If you would like some HIGH quality entertainment by North Idaho's most talented locals....Come out tonight!!
X-ALT-DESC;FMTTYPE=text/html:North Idaho&#39\;s search for a star. A 5 week talent competition. August 13th is the 4th Thursday Night of the competition. This evening is a night of performances from the top contestants of each of the 3 prior open auditions. Winners of the semifinals will perform next Thursday at the Kroc Center to then result in one and only winner. The winner receives $1500 to go towards travel fees to audition for Tv Show of choice: America&#39\;s Got Talent\, The Voice or American Idol. If you would like some HIGH quality entertainment by North Idaho&#39\;s most talented locals....Come out tonight!!
LOCATION:Victory City Church 5073 E. 16th Ave\, Post Falls
UID:e.3132.3068
SEQUENCE:3
DTSTAMP:20260420T060005Z
URL:https://www.haydenchamber.org/events/details/north-idaho-s-got-talent-season-5-08-13-2020-3068
END:VEVENT

END:VCALENDAR
