BEGIN:VCALENDAR
VERSION:2.0
PRODID:-//ChamberMaster//Event Calendar 2.0//EN
METHOD:PUBLISH
X-PUBLISHED-TTL:P3D
REFRESH-INTERVAL:P3D
CALSCALE:GREGORIAN
BEGIN:VEVENT
DTSTART:20200625T190000Z
DTEND:20200625T220000Z
X-MICROSOFT-CDO-ALLDAYEVENT:FALSE
SUMMARY:North Idaho Job Fair
DESCRIPTION:Post quarantine\, there are several local companies on the hunt for YOU. Shake hands with hiring managers of North Idaho businesses. Prepare to start your new career! Recommended: Bring resumes\, dress professional\, firm handshakes
X-ALT-DESC;FMTTYPE=text/html:Post quarantine\, there are several local companies on the hunt for YOU. Shake hands with hiring managers of North Idaho businesses. Prepare to start your new career! Recommended: Bring resumes\, dress professional\, firm handshakes
LOCATION:Lake City Center 1916 N. Lakewood Drive\, Coeur d'Alene\, Idaho
UID:e.3132.3062
SEQUENCE:3
DTSTAMP:20260420T024603Z
URL:https://www.haydenchamber.org/events/details/north-idaho-job-fair-3062
END:VEVENT

END:VCALENDAR
