BEGIN:VCALENDAR
VERSION:2.0
PRODID:-//ChamberMaster//Event Calendar 2.0//EN
METHOD:PUBLISH
X-PUBLISHED-TTL:P3D
REFRESH-INTERVAL:P3D
CALSCALE:GREGORIAN
BEGIN:VEVENT
DTSTART:20211028T140000Z
DTEND:20211028T153000Z
X-MICROSOFT-CDO-ALLDAYEVENT:FALSE
SUMMARY:Networking Breakfast Oct 28\, 2021
DESCRIPTION:Join us for our monthly\n\nMembership Networking Breakfast!\n\nThursday\, Oct 28\, 2021\n\nBest Western Plus CdA Inn\,\n\n7:00am to 8:30am \n\nPlease register by Monday Oct. 25th\n\n \n\nOur guest speaker will be Linda Cook from Union Gospel Mission. \n\nShe will be speaking on how UGM combats homelessness\n\nand addiction and why the CdA/Kootenai County model works.\n\n \nSeating is limited\, please make your reservations by Monday\, Oct 28th.
X-ALT-DESC;FMTTYPE=text/html:<div style="text-align: center\;">\n<div><span style="font-family:tahoma\;"><strong><span style="font-size:24px\;">Join us for our monthly<br />\nMembership Networking Breakfast!</span></strong></span></div>\n\n<h3><span style="font-size: 22px\;"><span style="font-family: tahoma\, geneva\, sans-serif\;">Thursday\, Oct 28\, 2021</span></span></h3>\n\n<h3><span style="font-size: 22px\;"><span style="font-family: tahoma\, geneva\, sans-serif\;">Best Western Plus CdA Inn\,</span></span></h3>\n\n<h3><span style="font-size: 22px\;"><span style="font-family: tahoma\, geneva\, sans-serif\;">7:00am to 8:30am&nbsp\;</span></span></h3>\n\n<h3><span style="font-size: 22px\;"><span style="font-family: tahoma\, geneva\, sans-serif\;">Please register by Monday Oct. 25th</span></span></h3>\n\n<p>&nbsp\;</p>\n\n<p><span style="font-size:20px\;"><strong><span style="font-family: tahoma\, geneva\, sans-serif\;">Our guest speaker will be Linda Cook from Union Gospel Mission.&nbsp\;</span></strong></span></p>\n\n<p><span style="font-size: 20px\;"><span style="font-family: tahoma\, geneva\, sans-serif\;">She will be speaking on how UGM combats homelessness<br />\nand addiction and why the CdA/Kootenai County model works.</span></span></p>\n\n<p>&nbsp\;</p>\n<span style="font-size:14px\;"><em>Seating is limited\, please make your reservations by Monday\, Oct 28th.</em></span></div>\n
LOCATION:Best Western CdA Inn & Conference Center 506 W. Appleway Ave. Coeur d'Alene\, ID
UID:e.3132.3587
SEQUENCE:3
DTSTAMP:20260424T083056Z
URL:https://www.haydenchamber.org/events/details/networking-breakfast-oct-28-2021-3587
END:VEVENT

END:VCALENDAR
