BEGIN:VCALENDAR
VERSION:2.0
PRODID:-//ChamberMaster//Event Calendar 2.0//EN
METHOD:PUBLISH
X-PUBLISHED-TTL:P3D
REFRESH-INTERVAL:P3D
CALSCALE:GREGORIAN
BEGIN:VEVENT
DTSTART:20200920T010000Z
DTEND:20200920T050000Z
X-MICROSOFT-CDO-ALLDAYEVENT:FALSE
SUMMARY:Mutiny and Murder- A Murder Mystery
DESCRIPTION:Well\, shiver me timbers and sharpen me sword!\n\nAfter a voyage filled with pillaging and plundering\, the Jaded Jewel a pirate ship captained by Redbeard\, an old but dangerous pirate is docked in a cove near Port Royal.\n\nAs the pirates head into town to celebrate their homecoming and\n\nspend their gold and goods\, a night of turmoil and trouble is sure to transpire.\n\nAs the night quickly steers out of control\, one guest meets a\n\ntragic demise and ends up in Davy Jones' Locker leaving the rest\n\nof the party goers to bring the guilty to the gallows.\n\nIs the culprit the profiteering pirate organizing a mutiny? Or\, the saucy sea mistress who wanted more than a casual commitment? The perpetrator could be the swashbuckling swordsman desperate to win the love of the governor's daughter\, or possibly the treasure seeking seaperson incapable of sharing.\n\nIn a harbor village filled with backstabbers and buccaneers looking to get ahead\, there is little reward for honesty and a high price to pay for deceit.
X-ALT-DESC;FMTTYPE=text/html:<div>Well\, shiver me timbers and sharpen me sword!</div>\n\n<div>After a voyage filled with pillaging and plundering\, the Jaded Jewel&ndash\;a pirate ship captained by Redbeard\, an old but dangerous pirate&ndash\;is docked in a cove near Port Royal.</div>\n\n<div>As the pirates head into town to celebrate their homecoming and<br />\nspend their gold and goods\, a night of turmoil and trouble is sure to transpire.</div>\n\n<div>As the night quickly steers out of control\, one guest meets a<br />\ntragic demise and ends up in Davy Jones&rsquo\; Locker leaving the rest<br />\nof the party goers to bring the guilty to the gallows.</div>\n\n<div>Is the culprit the profiteering pirate organizing a mutiny? Or\, the saucy sea mistress who wanted more than a casual commitment? The perpetrator could be the swashbuckling swordsman desperate to win the love of the governor&rsquo\;s daughter\, or possibly the treasure seeking seaperson incapable of sharing.</div>\n\n<div>In a harbor village filled with backstabbers and buccaneers looking to get ahead\, there is little reward for honesty and a high price to pay for deceit.</div>\n
LOCATION:1701 N 4th St. Coeur d'Alene\, ID 83815
UID:e.3132.3080
SEQUENCE:3
DTSTAMP:20260420T072329Z
URL:https://www.haydenchamber.org/events/details/mutiny-and-murder-a-murder-mystery-3080
END:VEVENT

END:VCALENDAR
