BEGIN:VCALENDAR
VERSION:2.0
PRODID:-//ChamberMaster//Event Calendar 2.0//EN
METHOD:PUBLISH
X-PUBLISHED-TTL:P3D
REFRESH-INTERVAL:P3D
CALSCALE:GREGORIAN
BEGIN:VEVENT
DTSTART:20200926T010000Z
DTEND:20200926T030000Z
X-MICROSOFT-CDO-ALLDAYEVENT:FALSE
SUMMARY:Museum of North Idaho Virtual Non-Gala- Two Dimes Make a Nickel: Logging Up The Marble
DESCRIPTION:You are cordially invited to the Museum of North Idaho's Virtual Non-Gala \n\n\n\nALL proceeds benefit the Museum of North Idaho's renovations of \n\nthe historic J.C. White House!\n\n\n\nLogging on Marble Creek\, the Wobblies and St. Maries are at the center of Two Nickels Make a Dime: Logging up the Marble\, a three act play narrated by George Currier.*\n\n\n\nWhen you purchase a $99 ticket to the Non-Gala\, you will receive premiere access to stream this 1.75 hour play LIVE on September 25\, 2020 at 6pm. You can tune in from your computer\, phone\, tablet\, or Smart TV. There are alternative ways to watch. Contact the museum for more information.\n\n\n\nYou may also call the Museum of North Idaho with a credit card payment: 208-664-3448\, or mail check payments to PO Box 812 Coeur d'Alene ID 83816-0812.\n\n\n\n*Note: Parental Guidance suggested due to language
X-ALT-DESC;FMTTYPE=text/html:<span style="color:rgb(29\, 33\, 41)\; font-family:helvetica\,arial\,sans-serif\; font-size:14px">You are cordially invited to the Museum of North Idaho&#39\;s Virtual Non-Gala </span><br />\n<br />\n<span style="color:rgb(29\, 33\, 41)\; font-family:helvetica\,arial\,sans-serif\; font-size:14px">ALL proceeds benefit the Museum of North Idaho&#39\;s renovations of </span><br />\n<span style="color:rgb(29\, 33\, 41)\; font-family:helvetica\,arial\,sans-serif\; font-size:14px">the historic J.C. White House!</span><br />\n<br />\n<span style="color:rgb(29\, 33\, 41)\; font-family:helvetica\,arial\,sans-serif\; font-size:14px">Logging on Marble Creek\, the Wobblies and St. Maries are at the center of Two Nickels Make a Dime: Logging up the Marble\, a three act play narrated by George Currier.*</span><br />\n<br />\n<span style="color:rgb(29\, 33\, 41)\; font-family:helvetica\,arial\,sans-serif\; font-size:14px">When you purchase a $99 ticket to the Non-Gala\, you will receive premiere access to stream this 1.75 hour play LIVE on September 25\, 2020 at 6pm. You can tune in from your computer\, phone\, tablet\, or Smart TV. There are alternative ways to watch. Contact the museum for more information.</span><br />\n<br />\n<span style="color:rgb(29\, 33\, 41)\; font-family:helvetica\,arial\,sans-serif\; font-size:14px">You may also call the Museum of North Idaho with a credit card payment: 208-664-3448\, or mail check payments to PO Box 812 Coeur d&#39\;Alene ID 83816-0812.</span><br />\n<br />\n<span style="color:rgb(29\, 33\, 41)\; font-family:helvetica\,arial\,sans-serif\; font-size:14px">*Note: Parental Guidance suggested due to language</span>
LOCATION:facebook.com/events/234046187997336/
UID:e.3132.3098
SEQUENCE:3
DTSTAMP:20260420T072635Z
URL:https://www.haydenchamber.org/events/details/museum-of-north-idaho-virtual-non-gala-two-dimes-make-a-nickel-logging-up-the-marble-3098
END:VEVENT

END:VCALENDAR
