BEGIN:VCALENDAR
VERSION:2.0
PRODID:-//ChamberMaster//Event Calendar 2.0//EN
METHOD:PUBLISH
X-PUBLISHED-TTL:P3D
REFRESH-INTERVAL:P3D
CALSCALE:GREGORIAN
BEGIN:VEVENT
DTSTART:20210130T030000Z
DTEND:20210130T060000Z
X-MICROSOFT-CDO-ALLDAYEVENT:FALSE
SUMMARY:Medieval Murder Madness - A Murder Mystery
DESCRIPTION:Please join us for a knight of Murder \;)\n\n\n\nHear ye! Hear ye! All ye Kings and Queens\, Knights and Nobles!\n\n\n\nA tournament celebration is planned to honor the noble marriage of Baron Bartholomew to Lady Diana of Dunnsberry\, in the manor of Fernwood. As a resident of the manor\, you are not only invited to be there\, but your attendance is required by the request of your lord.\n\n\n\nWhether it is to see knights jousting or to partake in the ale and entertainment\, your business is but your own....that is until you find yourself in the middle of a murder.\n\n\n\nWith only one night to find the guilty\, you will soon figure out that there is a lot more at stake\, for murder in the manor is punishable the death. Whether you are guilty or not\, there will be others trying to finger you as the culprit as you try to find the real murderer\, and only you can defend your innocence. Whom do you trust? Who will betray you before the night is through? Everyone is a suspect and no one is safe\, in this mystery of medieval madness.\n\n\n\nBe careful in attending. Your life will depend not only on YOUR innocence\, but your ability to defend it!
X-ALT-DESC;FMTTYPE=text/html:<span style="background-color:rgb(255\, 255\, 255)\; color:rgb(29\, 33\, 41)\; font-family:helvetica\,arial\,sans-serif\; font-size:14px">Please join us for a knight of Murder \;)</span><br />\n<br />\n<span style="background-color:rgb(255\, 255\, 255)\; color:rgb(29\, 33\, 41)\; font-family:helvetica\,arial\,sans-serif\; font-size:14px">Hear ye! Hear ye! All ye Kings and Queens\, Knights and Nobles!</span><br />\n<br />\n<span style="background-color:rgb(255\, 255\, 255)\; color:rgb(29\, 33\, 41)\; font-family:helvetica\,arial\,sans-serif\; font-size:14px">A tournament celebration is planned to honor the noble marriage of Baron Bartholomew to Lady Diana of Dunnsberry\, in the manor of Fernwood. As a resident of the manor\, you are not only invited to be there\, but your attendance is required by the request of your lord.</span><br />\n<br />\n<span style="background-color:rgb(255\, 255\, 255)\; color:rgb(29\, 33\, 41)\; font-family:helvetica\,arial\,sans-serif\; font-size:14px">Whether it is to see knights jousting or to partake in the ale and entertainment\, your business is but your own....that is until you find yourself in the middle of a murder.</span><br />\n<br />\n<span style="background-color:rgb(255\, 255\, 255)\; color:rgb(29\, 33\, 41)\; font-family:helvetica\,arial\,sans-serif\; font-size:14px">With only one night to find the guilty\, you will soon figure out that there is a lot more at stake\, for murder in the manor is punishable the death. Whether you are guilty or not\, there will be others trying to finger you as the culprit as you try to find the real murderer\, and only you can defend your innocence. Whom do you trust? Who will betray you before the night is through? Everyone is a suspect and no one is safe\, in this mystery of medieval madness.</span><br />\n<br />\n<span style="background-color:rgb(255\, 255\, 255)\; color:rgb(29\, 33\, 41)\; font-family:helvetica\,arial\,sans-serif\; font-size:14px">Be careful in attending. Your life will depend not only on YOUR innocence\, but your ability to defend it!</span>
LOCATION:1701 N 4th St. Unit D Coeur d' Alene\, Idaho 83815 (Located on the Spruce St. side of the building. Corner of Spruce and 4th St.)
UID:e.3132.3138
SEQUENCE:3
DTSTAMP:20260421T201956Z
URL:https://www.haydenchamber.org/events/details/medieval-murder-madness-a-murder-mystery-3138
END:VEVENT

END:VCALENDAR
