BEGIN:VCALENDAR
VERSION:2.0
PRODID:-//ChamberMaster//Event Calendar 2.0//EN
METHOD:PUBLISH
X-PUBLISHED-TTL:P3D
REFRESH-INTERVAL:P3D
CALSCALE:GREGORIAN
BEGIN:VEVENT
DTSTART:20200504T230000Z
DTEND:20200505T000000Z
X-MICROSOFT-CDO-ALLDAYEVENT:FALSE
SUMMARY:May the 4th Be With You: Star Wars and History
DESCRIPTION:Celebrate May the 4th Be With You by joining Courtney Beebe and Jocelyn Babcock at 4p on the 4th. We will explore the human history that inspired the stories\, cultures\, and characters of the Star Wars galaxy. We will also explore our own history in relation to the Star Wars universe.\n\n\n\nhttps://us02web.zoom.us/j/88673437117?pwd=cXZIUlB4OW1KcWdJbnB6ZHdPSTY2QT09
X-ALT-DESC;FMTTYPE=text/html:<span style="color:rgb(29\, 33\, 41)\; font-family:helvetica\,arial\,sans-serif\; font-size:14px">Celebrate May the 4th Be With You by joining Courtney Beebe and Jocelyn Babcock at 4p on the 4th. We will explore the human history that inspired the stories\, cultures\, and characters of the Star Wars galaxy. We will also explore our own history in relation to the Star Wars universe.</span><br />\n<br />\n<a href="https://us02web.zoom.us/j/88673437117?pwd=cXZIUlB4OW1KcWdJbnB6ZHdPSTY2QT09&amp\;fbclid=IwAR2nqqnCI1_GV7ew4tdnrktSGCD9Hqx5xDa9l9ixaENiRXYsBzZLZ03uu1k" rel="nofollow noopener" style="color: rgb(56\, 88\, 152)\; cursor: pointer\; text-decoration-line: none\; font-family: Helvetica\, Arial\, sans-serif\; font-size: 14px\; white-space: pre-wrap\;" target="_blank">https://us02web.zoom.us/j/88673437117?pwd=cXZIUlB4OW1KcWdJbnB6ZHdPSTY2QT09</a>
LOCATION:Your device
UID:e.3132.3048
SEQUENCE:3
DTSTAMP:20260420T010700Z
URL:https://www.haydenchamber.org/events/details/may-the-4th-be-with-you-star-wars-and-history-3048
END:VEVENT

END:VCALENDAR
