BEGIN:VCALENDAR
VERSION:2.0
PRODID:-//ChamberMaster//Event Calendar 2.0//EN
METHOD:PUBLISH
X-PUBLISHED-TTL:P3D
REFRESH-INTERVAL:P3D
CALSCALE:GREGORIAN
BEGIN:VEVENT
DTSTART:20200915T180000Z
DTEND:20201031T193000Z
X-MICROSOFT-CDO-ALLDAYEVENT:FALSE
SUMMARY:Living History Walking Tours- Old Fort Sherman
DESCRIPTION:Fall in love with Coeur d'Alene all over again on a Museum of North Idaho Living History Walking Tour!\n\n\n\nRobert Singletary\, in-resident historian and Program Director for the Museum of North Idaho\, embodies the historic character of General William Carlin\, Commander of Fort Sherman.\n\n\n\nThe CDA Press boasts: "Singletary\, who has led tours for 12 years\, lives and breathes North Idaho history. Embodying characters\, Singletary captivates audiences of all ages with his authentic performances and traditional army uniform."\n\n\n\nThe tour features historical landmarks such as the Fort Sherman Chapel\, Officer's Quarters\, and the Powder Magazine.\n\n\n\nTours are $15/ adults\, $7/ youth 6-16 years old and includes admission to the Museum and parking.\n\n\n\nThese 1-1.5 hour walking tours depart at 11am for Old Fort Sherman from the Museum of North Idaho 115 Northwest Blvd in Coeur d'Alene. 208-664-3448\n\n\n\nWe make every attempt to do social distancing and are requesting people to bring masks\, especially for when we go inside.
X-ALT-DESC;FMTTYPE=text/html:<span style="color:rgb(29\, 33\, 41)\; font-family:helvetica\,arial\,sans-serif\; font-size:14px">Fall in love with Coeur d&rsquo\;Alene all over again on a Museum of North Idaho Living History Walking Tour!</span><br />\n<br />\n<span style="color:rgb(29\, 33\, 41)\; font-family:helvetica\,arial\,sans-serif\; font-size:14px">Robert Singletary\, in-resident historian and Program Director for the Museum of North Idaho\, embodies the historic character of General William Carlin\, Commander of Fort Sherman.</span><br />\n<br />\n<span style="color:rgb(29\, 33\, 41)\; font-family:helvetica\,arial\,sans-serif\; font-size:14px">The CDA Press boasts: &quot\;Singletary\, who has led tours for 12 years\, lives and breathes North Idaho history. Embodying characters\, Singletary captivates audiences of all ages with his authentic performances and traditional army uniform.&quot\;</span><br />\n<br />\n<span style="color:rgb(29\, 33\, 41)\; font-family:helvetica\,arial\,sans-serif\; font-size:14px">The tour features historical landmarks such as the Fort Sherman Chapel\, Officer&rsquo\;s Quarters\, and the Powder Magazine.</span><br />\n<br />\n<span style="color:rgb(29\, 33\, 41)\; font-family:helvetica\,arial\,sans-serif\; font-size:14px">Tours are $15/ adults\, $7/ youth 6-16 years old and includes admission to the Museum and parking.</span><br />\n<br />\n<span style="color:rgb(29\, 33\, 41)\; font-family:helvetica\,arial\,sans-serif\; font-size:14px">These 1-1.5 hour walking tours depart at 11am for Old Fort Sherman from the Museum of North Idaho 115 Northwest Blvd in Coeur d&#39\;Alene. 208-664-3448</span><br />\n<br />\n<span style="color:rgb(29\, 33\, 41)\; font-family:helvetica\,arial\,sans-serif\; font-size:14px">We make every attempt to do social distancing and are requesting people to bring masks\, especially for when we go inside.</span>
LOCATION:Old Fort Sherman/ NIC Campus/ Museum of North Idaho 115 Northwest Blvd
UID:e.3132.3088
SEQUENCE:3
DTSTAMP:20260420T072534Z
URL:https://www.haydenchamber.org/events/details/living-history-walking-tours-old-fort-sherman-3088
END:VEVENT

END:VCALENDAR
