BEGIN:VCALENDAR
VERSION:2.0
PRODID:-//ChamberMaster//Event Calendar 2.0//EN
METHOD:PUBLISH
X-PUBLISHED-TTL:P3D
REFRESH-INTERVAL:P3D
CALSCALE:GREGORIAN
BEGIN:VEVENT
DTSTART:20200915T203000Z
DTEND:20200915T220000Z
X-MICROSOFT-CDO-ALLDAYEVENT:FALSE
SUMMARY:Living History Walking Tours- Downtown CDA
DESCRIPTION:Fall in love with Coeur d'Alene all over again on a Museum of North Idaho Living History Walking Tour!\n\n\n\nRobert Singletary\, in-resident historian and Program Director for the Museum of North Idaho\, embodies the historic character of Steamboat Captain Peter Sorensen.\n\n\n\nThe CDA Press boasts: "Singletary\, who has led tours for 12 years\, lives and breathes North Idaho history. Embodying characters\, Singletary captivates audiences of all ages with his authentic performances and traditional [costumes]."\n\n\n\nThe tour features historical landmarks and architecture in downtown Coeur d'Alene.\n\n\n\nTours are $15/ adults\, $7/ youth 6-16 years old and includes admission to the Museum and parking.\n\n\n\nThese 1-1.5 hour walking tours depart at 1:30pm for Downtown Coeur d'Alene from the Museum of North Idaho 115 Northwest Blvd in Coeur d'Alene. 208-664-3448\n\n\n\nWe make every attempt to do social distancing and are requesting people to bring masks\, especially for when we go inside.
X-ALT-DESC;FMTTYPE=text/html:<span style="color:rgb(29\, 33\, 41)\; font-family:helvetica\,arial\,sans-serif\; font-size:14px">Fall in love with Coeur d&rsquo\;Alene all over again on a Museum of North Idaho Living History Walking Tour!</span><br />\n<br />\n<span style="color:rgb(29\, 33\, 41)\; font-family:helvetica\,arial\,sans-serif\; font-size:14px">Robert Singletary\, in-resident historian and Program Director for the Museum of North Idaho\, embodies the historic character of Steamboat Captain Peter Sorensen.</span><br />\n<br />\n<span style="color:rgb(29\, 33\, 41)\; font-family:helvetica\,arial\,sans-serif\; font-size:14px">The CDA Press boasts: &quot\;Singletary\, who has led tours for 12 years\, lives and breathes North Idaho history. Embodying characters\, Singletary captivates audiences of all ages with his authentic performances and traditional [costumes].&quot\;</span><br />\n<br />\n<span style="color:rgb(29\, 33\, 41)\; font-family:helvetica\,arial\,sans-serif\; font-size:14px">The tour features historical landmarks and architecture in downtown Coeur d&#39\;Alene.</span><br />\n<br />\n<span style="color:rgb(29\, 33\, 41)\; font-family:helvetica\,arial\,sans-serif\; font-size:14px">Tours are $15/ adults\, $7/ youth 6-16 years old and includes admission to the Museum and parking.</span><br />\n<br />\n<span style="color:rgb(29\, 33\, 41)\; font-family:helvetica\,arial\,sans-serif\; font-size:14px">These 1-1.5 hour walking tours depart at 1:30pm for Downtown Coeur d&#39\;Alene from the Museum of North Idaho 115 Northwest Blvd in Coeur d&#39\;Alene. 208-664-3448</span><br />\n<br />\n<span style="color:rgb(29\, 33\, 41)\; font-family:helvetica\,arial\,sans-serif\; font-size:14px">We make every attempt to do social distancing and are requesting people to bring masks\, especially for when we go inside.</span>
LOCATION:Downtown CDA/ Museum of North Idaho 115 Northwest Blvd
UID:e.3132.3087
SEQUENCE:3
DTSTAMP:20260420T072413Z
URL:https://www.haydenchamber.org/events/details/living-history-walking-tours-downtown-cda-3087
END:VEVENT

END:VCALENDAR
