BEGIN:VCALENDAR
VERSION:2.0
PRODID:-//ChamberMaster//Event Calendar 2.0//EN
METHOD:PUBLISH
X-PUBLISHED-TTL:P3D
REFRESH-INTERVAL:P3D
CALSCALE:GREGORIAN
BEGIN:VEVENT
DTSTART:20260502T190000Z
DTEND:20260502T230000Z
X-MICROSOFT-CDO-ALLDAYEVENT:FALSE
SUMMARY:Hayden Senior Center Bingo and Brews Fundraising Event
DESCRIPTION:Join us for our quarterly Bingo and Brews fundraiser benefiting the Hayden Senior Center!\n\nAn afternoon of fun\, food\, and cash prizes\, 50/50 drawing and gift card raffle!\n\nAdmission - $10\n\nBingo card packets - $10 per packet\n\nBeer and wine - $5 each\n\nSandwiches\, Chips\, Cookies and Soda available for individual purchase beginning at noon.\n\nBingo card sales start at 12:45 pm and end promptly at 1:30 pm\n\nCall 208-762-7052 for reservations by Wednesday\, April 29th.\n\nMust be 18 years old to play bingo\, 21 to purchase alcohol (ID required)
X-ALT-DESC;FMTTYPE=text/html:<span style="font-family:oxygen\,sans-serif\; font-size:16px">Join us for our quarterly Bingo and Brews fundraiser benefiting the Hayden Senior Center!</span><br />\n<span style="font-family:oxygen\,sans-serif\; font-size:16px">An afternoon of fun\, food\, and cash prizes\, 50/50 drawing and gift card raffle!</span><br />\n<span style="font-family:oxygen\,sans-serif\; font-size:16px">Admission - $10</span><br />\n<span style="font-family:oxygen\,sans-serif\; font-size:16px">Bingo card packets - $10 per packet</span><br />\n<span style="font-family:oxygen\,sans-serif\; font-size:16px">Beer and wine - $5 each<br />\nSandwiches\, Chips\, Cookies and Soda available for individual purchase beginning at noon.</span><br />\n<span style="font-size:16px"><span style="font-size:18px"><strong>Bingo card sales start at 12:45 pm and end promptly at 1:30 pm</strong></span></span><br />\n<strong><span style="font-family:oxygen\,sans-serif\; font-size:16px">Call 208-762-7052 for reservations by Wednesday\, April 29th.</span><br />\n<span style="font-family:oxygen\,sans-serif\; font-size:16px">Must be 18 years old to play bingo\, 21 to purchase alcohol (ID required)</span></strong>
LOCATION:Hayden Senior Center (located inside the Calam Shriner's Event Center) 1250 W Lancaster Rd Hayden\, Idaho
UID:e.3132.7501
SEQUENCE:3
DTSTAMP:20260420T183632Z
URL:https://www.haydenchamber.org/events/details/hayden-senior-center-bingo-and-brews-fundraising-event-05-02-2026-7501
END:VEVENT

END:VCALENDAR
