BEGIN:VCALENDAR
VERSION:2.0
PRODID:-//ChamberMaster//Event Calendar 2.0//EN
METHOD:PUBLISH
X-PUBLISHED-TTL:P3D
REFRESH-INTERVAL:P3D
CALSCALE:GREGORIAN
BEGIN:VEVENT
DTSTART:20200725T210000Z
DTEND:20200725T230000Z
X-MICROSOFT-CDO-ALLDAYEVENT:FALSE
SUMMARY:Hayden's Got Talent - Virtual/Interactive Voting today!
DESCRIPTION:Hayden's Got Talent will be virtual this year due to Hayden Days being canceled!  View the videos of the 9 contestants on the City of Hayden's Facebook page starting at 2:00 p.m.on July 25th and vote for your favorite participant!  Voting ends at 4:00 p.m.  You can only vote once!
X-ALT-DESC;FMTTYPE=text/html:Hayden&#39\;s Got Talent will be virtual this year due to Hayden Days being canceled!&nbsp\; View the videos of the 9 contestants on the City of Hayden&#39\;s Facebook page starting at 2:00 p.m.on July 25th and vote for your favorite participant!&nbsp\; Voting ends at 4:00 p.m.&nbsp\; You can only vote once!
LOCATION:City of Hayden's Facebook page
UID:e.3132.3070
SEQUENCE:3
DTSTAMP:20260420T043122Z
URL:https://www.haydenchamber.org/events/details/hayden-s-got-talent-virtual-interactive-voting-today-3070
END:VEVENT

END:VCALENDAR
