BEGIN:VCALENDAR
VERSION:2.0
PRODID:-//ChamberMaster//Event Calendar 2.0//EN
METHOD:PUBLISH
X-PUBLISHED-TTL:P3D
REFRESH-INTERVAL:P3D
CALSCALE:GREGORIAN
BEGIN:VEVENT
DTSTART:20200101T173000Z
DTEND:20200101T193000Z
X-MICROSOFT-CDO-ALLDAYEVENT:FALSE
SUMMARY:Hangover Handicap 5 Mile Fun Run 2020
DESCRIPTION:The best New Year's resolution ever!\n\nTesh's 43rd Annual Hangover Handicap 5 Mile Fun Run\, January 1\, 2020.
X-ALT-DESC;FMTTYPE=text/html:<span style="background-color:rgb(255\, 255\, 255)\; color:rgb(51\, 51\, 51)\; font-family:sans-serif\,arial\,verdana\,trebuchet ms\; font-size:13px">The best New Year&#39\;s resolution ever!</span><br />\n<span style="background-color:rgb(255\, 255\, 255)\; color:rgb(51\, 51\, 51)\; font-family:sans-serif\,arial\,verdana\,trebuchet ms\; font-size:13px">Tesh&#39\;s 43rd Annual Hangover Handicap 5 Mile Fun Run\, January 1\, 2020.</span>
LOCATION:Behind - Michael D's Eatery 203 E. Coeur d'Alene Lake Dr. Coeur d'Alene\, ID 83814
UID:e.3132.2915
SEQUENCE:3
DTSTAMP:20260419T183014Z
URL:https://www.haydenchamber.org/events/details/hangover-handicap-5-mile-fun-run-2020-2915
END:VEVENT

END:VCALENDAR
