BEGIN:VCALENDAR
VERSION:2.0
PRODID:-//ChamberMaster//Event Calendar 2.0//EN
METHOD:PUBLISH
X-PUBLISHED-TTL:P3D
REFRESH-INTERVAL:P3D
CALSCALE:GREGORIAN
BEGIN:VEVENT
DTSTART:20200716T180000Z
DTEND:20200716T220000Z
X-MICROSOFT-CDO-ALLDAYEVENT:FALSE
SUMMARY:Golden Years\, Senior Resource Fair
DESCRIPTION:Your go-to resource fair for all things senior\, retirement\, assisted living\, home care\, vision\, hearing\, etc Talk to the professionals. Ask your questions and get answers on the spot. Get a LOT of free giveaways. FREE blood pressure checks.
X-ALT-DESC;FMTTYPE=text/html:Your go-to resource fair for all things senior\, retirement\, assisted living\, home care\, vision\, hearing\, etc Talk to the professionals. Ask your questions and get answers on the spot. Get a LOT of free giveaways. FREE blood pressure checks.
LOCATION:Lake City Center\, 1916 N. Lakewood Drive\, Coeur d'Alene
UID:e.3132.3064
SEQUENCE:3
DTSTAMP:20260420T055915Z
URL:https://www.haydenchamber.org/events/details/golden-years-senior-resource-fair-3064
END:VEVENT

END:VCALENDAR
