BEGIN:VCALENDAR
VERSION:2.0
PRODID:-//ChamberMaster//Event Calendar 2.0//EN
METHOD:PUBLISH
X-PUBLISHED-TTL:P3D
REFRESH-INTERVAL:P3D
CALSCALE:GREGORIAN
BEGIN:VEVENT
DTSTART:20200502T020000Z
DTEND:20200502T030000Z
X-MICROSOFT-CDO-ALLDAYEVENT:FALSE
SUMMARY:Game Show Trivia Night
DESCRIPTION:The Museum of North Idaho invites you be part of a Zoom Game Show! \n\n\n\nFriday May 1st\, 7:00pm right here on your screen.\n\n\n\nIt's the Museum of North Idaho Trivia/History Quiz. How much do you know about our area? Tune in for fun and maybe learn something too! Everyone is welcome to join. \n\n\n\nQuestions will cover CdA\, KootCo\, North Idaho and Idaho in general\, there may be some with pictures. What you don't know\, you'll learn. Impossible to keep score on Zoom\, it's self serve and we'd love to see people's scores and comments posted on our FB page afterward.\n\n\n\nJust click the link to join the party on Friday May 1\, 2020 07:00 PM Pacific.\n\n\n\n\n\nhttps://us02web.zoom.us/j/85161304753\n\n\n\nMeeting ID: 851 6130 4753
X-ALT-DESC;FMTTYPE=text/html:<span style="color:rgb(29\, 33\, 41)\; font-family:helvetica\,arial\,sans-serif\; font-size:14px">The Museum of North Idaho invites you be part of a Zoom Game Show! </span><br />\n<br />\n<span style="color:rgb(29\, 33\, 41)\; font-family:helvetica\,arial\,sans-serif\; font-size:14px">Friday May 1st\, 7:00pm right here on your screen.</span><br />\n<br />\n<span style="color:rgb(29\, 33\, 41)\; font-family:helvetica\,arial\,sans-serif\; font-size:14px">It&rsquo\;s the Museum of North Idaho Trivia/History Quiz. How much do you know about our area? Tune in for fun and maybe learn something too! Everyone is welcome to join. </span><br />\n<br />\n<span style="color:rgb(29\, 33\, 41)\; font-family:helvetica\,arial\,sans-serif\; font-size:14px">Questions will cover CdA\, KootCo\, North Idaho and Idaho in general\, there may be some with pictures. What you don&rsquo\;t know\, you&rsquo\;ll learn. Impossible to keep score on Zoom\, it&rsquo\;s self serve and we&rsquo\;d love to see people&rsquo\;s scores and comments posted on our FB page afterward.</span><br />\n<br />\n<span style="color:rgb(29\, 33\, 41)\; font-family:helvetica\,arial\,sans-serif\; font-size:14px">Just click the link to join the party on Friday May 1\, 2020 07:00 PM Pacific.</span><br />\n<br />\n<br />\n<a href="https://us02web.zoom.us/j/85161304753?fbclid=IwAR2N6uF6Jn11WdThrQl-sREHoH8X96xNjM7QiDBNNfr6j55XT9pjJPWR9T4" rel="nofollow noopener" style="color: rgb(56\, 88\, 152)\; cursor: pointer\; text-decoration-line: none\; font-family: Helvetica\, Arial\, sans-serif\; font-size: 14px\; white-space: pre-wrap\;" target="_blank">https://us02web.zoom.us/j/85161304753</a><br />\n<br />\n<span style="color:rgb(29\, 33\, 41)\; font-family:helvetica\,arial\,sans-serif\; font-size:14px">Meeting ID: 851 6130 4753</span>
LOCATION:right here on your screen.
UID:e.3132.3047
SEQUENCE:3
DTSTAMP:20260420T010500Z
URL:https://www.haydenchamber.org/events/details/game-show-trivia-night-3047
END:VEVENT

END:VCALENDAR
