BEGIN:VCALENDAR
VERSION:2.0
PRODID:-//ChamberMaster//Event Calendar 2.0//EN
METHOD:PUBLISH
X-PUBLISHED-TTL:P3D
REFRESH-INTERVAL:P3D
CALSCALE:GREGORIAN
BEGIN:VEVENT
DTSTART;VALUE=DATE:20210301
DTEND;VALUE=DATE:20210302
TRANSP:TRANSPARENT
X-MICROSOFT-CDO-ALLDAYEVENT:TRUE
SUMMARY:Daily Specials in Mulligan's Sports Bar
DESCRIPTION:Daily Specials in Mulligan's Sports Bar
X-ALT-DESC;FMTTYPE=text/html:Daily Specials in Mulligan&#39\;s Sports Bar
LOCATION:Coeur d'Alene Inn
UID:e.3132.3372
SEQUENCE:3
DTSTAMP:20260421T165908Z
URL:https://www.haydenchamber.org/events/details/daily-specials-in-mulligan-s-sports-bar-03-01-2021-3372
END:VEVENT

END:VCALENDAR
