BEGIN:VCALENDAR
VERSION:2.0
PRODID:-//ChamberMaster//Event Calendar 2.0//EN
METHOD:PUBLISH
X-PUBLISHED-TTL:P3D
REFRESH-INTERVAL:P3D
CALSCALE:GREGORIAN
BEGIN:VEVENT
DTSTART:20200514T000000Z
DTEND:20200514T020000Z
X-MICROSOFT-CDO-ALLDAYEVENT:FALSE
SUMMARY:Chamber After Hours - May 13\, 2020
DESCRIPTION:
X-ALT-DESC;FMTTYPE=text/html:
LOCATION:Profile by Sanford 2824 N. Ramsey Road\, Suite 103 Coeur d'Alene\, ID 83815
UID:e.3132.2981
SEQUENCE:3
DTSTAMP:20260420T115143Z
URL:https://www.haydenchamber.org/events/details/chamber-after-hours-may-13-2020-2981
END:VEVENT

END:VCALENDAR
