BEGIN:VCALENDAR
VERSION:2.0
PRODID:-//ChamberMaster//Event Calendar 2.0//EN
METHOD:PUBLISH
X-PUBLISHED-TTL:P3D
REFRESH-INTERVAL:P3D
CALSCALE:GREGORIAN
BEGIN:VEVENT
DTSTART:20201120T020000Z
DTEND:20201120T030000Z
X-MICROSOFT-CDO-ALLDAYEVENT:FALSE
SUMMARY:Car Seat Safety 101 Live Online
DESCRIPTION:Join us for a fun filled\, entertaining class taught by our Certified Child Passenger Safety Instructor\, Brian! We will cover everything you need to know (and more) about keeping your child safe while riding in your vehicle. We will discuss subject such as how to choose the correct car seat\, the safest place to install your car seat\, when to graduate to the next size seat and so much more. Class made possible by Buckle Up for Life Toyota and Cincinnati Children's Hospital. *This class fulfills the requirement to receive a car seat if needed
X-ALT-DESC;FMTTYPE=text/html:Join us for a fun filled\, entertaining class taught by our Certified Child Passenger Safety Instructor\, Brian! We will cover everything you need to know (and more) about keeping your child safe while riding in your vehicle. We will discuss subject such as how to choose the correct car seat\, the safest place to install your car seat\, when to graduate to the next size seat and so much more. Class made possible by Buckle Up for Life Toyota and Cincinnati Children&#39\;s Hospital. *This class fulfills the requirement to receive a car seat if needed
LOCATION:Online Zoom
UID:e.3132.3110
SEQUENCE:3
DTSTAMP:20260422T000052Z
URL:https://www.haydenchamber.org/events/details/car-seat-safety-101-live-online-11-19-2020-3110
END:VEVENT

END:VCALENDAR
