BEGIN:VCALENDAR
VERSION:2.0
PRODID:-//ChamberMaster//Event Calendar 2.0//EN
METHOD:PUBLISH
X-PUBLISHED-TTL:P3D
REFRESH-INTERVAL:P3D
CALSCALE:GREGORIAN
BEGIN:VEVENT
DTSTART:20260720T160000Z
DTEND:20260724T220000Z
X-MICROSOFT-CDO-ALLDAYEVENT:FALSE
SUMMARY:Broadway Experience Day Camp Week 3
DESCRIPTION:At Broadway Experience Day Camp\, your child will step into the exciting world of professional musical theatre through one of the most enriching and engaging summer camp experiences available.\n\nSet against the beautiful backdrop of Lake Coeur d'Alene\, this week-long day camp offers a unique blend of fun\, creativity\, and professional-level inspiration\, designed especially for young performers ages 8 13.\n\nThroughout the week\, campers participate in daily voice and movement warm-ups\, improvisation games\, and ensemble-based activities that build confidence\, teamwork\, and expressive skills. Each day also includes behind-the-scenes walking tours\, giving campers an insider's look at how Broadway-style productions are created.\n\nCampers benefit from interactive Q&A sessions with theatre professionals from across the country\, offering meaningful exposure to the realities of performing arts careers. These experiences foster respect for the craft\, encourage curiosity\, and inspire artistic growth in a supportive environment.\n\nEach session features a spotlight composer\, with campers learning music and lyrics that culminate in a performance for an invited audience at the end of the week. This celebratory showcase gives every child the opportunity to perform\, with optional solo opportunities available by audition for those interested in taking on an additional challenge.\n\nBroadway Experience Day Camp is more than a summer activity it's a prestigious opportunity for artistic and personal growth. Campers develop confidence\, form lasting friendships\, and gain a deeper appreciation for storytelling through music and theatre.\n\nSpace is limited. Secure your child's place in this unforgettable experience where education meets entertainment\, and where memories and skills are built to last a lifetime.
X-ALT-DESC;FMTTYPE=text/html:<p><span style="color:rgb(0\, 0\, 0)\; font-family:montserrat\,sans-serif\; font-size:11pt">At </span><strong>Broadway Experience Day Camp</strong><span style="color:rgb(0\, 0\, 0)\; font-family:montserrat\,sans-serif\; font-size:11pt">\, your child will step into the exciting world of </span><strong>professional musical theatre</strong><span style="color:rgb(0\, 0\, 0)\; font-family:montserrat\,sans-serif\; font-size:11pt"> through one of the </span><strong>most enriching and engaging summer camp experiences available</strong><span style="color:rgb(0\, 0\, 0)\; font-family:montserrat\,sans-serif\; font-size:11pt">.</span></p>\n\n<p><span style="color:rgb(0\, 0\, 0)\; font-family:montserrat\,sans-serif\; font-size:11pt">Set against the beautiful backdrop of </span><strong>Lake Coeur d&#39\;Alene</strong><span style="color:rgb(0\, 0\, 0)\; font-family:montserrat\,sans-serif\; font-size:11pt">\, this </span><strong>week-long day camp</strong><span style="color:rgb(0\, 0\, 0)\; font-family:montserrat\,sans-serif\; font-size:11pt"> offers a unique blend of </span><strong>fun\, creativity\, and professional-level inspiration</strong><span style="color:rgb(0\, 0\, 0)\; font-family:montserrat\,sans-serif\; font-size:11pt">\, designed especially for </span><strong>young performers ages 8&ndash\;13</strong><span style="color:rgb(0\, 0\, 0)\; font-family:montserrat\,sans-serif\; font-size:11pt">.</span></p>\n\n<p><span style="color:rgb(0\, 0\, 0)\; font-family:montserrat\,sans-serif\; font-size:11pt">Throughout the week\, campers participate in </span><strong>daily voice and movement warm-ups</strong><span style="color:rgb(0\, 0\, 0)\; font-family:montserrat\,sans-serif\; font-size:11pt">\, </span><strong>improvisation games</strong><span style="color:rgb(0\, 0\, 0)\; font-family:montserrat\,sans-serif\; font-size:11pt">\, and </span><strong>ensemble-based activities</strong><span style="color:rgb(0\, 0\, 0)\; font-family:montserrat\,sans-serif\; font-size:11pt"> that build </span><strong>confidence\, teamwork\, and expressive skills</strong><span style="color:rgb(0\, 0\, 0)\; font-family:montserrat\,sans-serif\; font-size:11pt">. Each day also includes </span><strong>behind-the-scenes walking tours</strong><span style="color:rgb(0\, 0\, 0)\; font-family:montserrat\,sans-serif\; font-size:11pt">\, giving campers an insider&rsquo\;s look at how Broadway-style productions are created.</span></p>\n\n<p><span style="color:rgb(0\, 0\, 0)\; font-family:montserrat\,sans-serif\; font-size:11pt">Campers benefit from </span><strong>interactive Q&amp\;A sessions with theatre professionals from across the country</strong><span style="color:rgb(0\, 0\, 0)\; font-family:montserrat\,sans-serif\; font-size:11pt">\, offering meaningful exposure to the realities of performing arts careers. These experiences foster </span><strong>respect for the craft</strong><span style="color:rgb(0\, 0\, 0)\; font-family:montserrat\,sans-serif\; font-size:11pt">\, encourage curiosity\, and inspire artistic growth in a supportive environment.</span></p>\n\n<p><span style="color:rgb(0\, 0\, 0)\; font-family:montserrat\,sans-serif\; font-size:11pt">Each session features a </span><strong>spotlight composer</strong><span style="color:rgb(0\, 0\, 0)\; font-family:montserrat\,sans-serif\; font-size:11pt">\, with campers learning music and lyrics that culminate in a </span><strong>performance for an invited audience</strong><span style="color:rgb(0\, 0\, 0)\; font-family:montserrat\,sans-serif\; font-size:11pt"> at the end of the week. This celebratory showcase gives every child the opportunity to perform\, with </span><strong>optional solo opportunities available by audition</strong><span style="color:rgb(0\, 0\, 0)\; font-family:montserrat\,sans-serif\; font-size:11pt"> for those interested in taking on an additional challenge.</span></p>\n\n<p><strong>Broadway Experience Day Camp</strong><span style="color:rgb(0\, 0\, 0)\; font-family:montserrat\,sans-serif\; font-size:11pt"> is more than a summer activity&mdash\;it&rsquo\;s a </span><strong>prestigious opportunity for artistic and personal growth</strong><span style="color:rgb(0\, 0\, 0)\; font-family:montserrat\,sans-serif\; font-size:11pt">. Campers develop </span><strong>confidence</strong><span style="color:rgb(0\, 0\, 0)\; font-family:montserrat\,sans-serif\; font-size:11pt">\, form </span><strong>lasting friendships</strong><span style="color:rgb(0\, 0\, 0)\; font-family:montserrat\,sans-serif\; font-size:11pt">\, and gain a deeper appreciation for storytelling through music and theatre.</span></p>\n\n<p><strong>Space is limited.</strong><span style="color:rgb(0\, 0\, 0)\; font-family:montserrat\,sans-serif\; font-size:11pt"> Secure your child&rsquo\;s place in this unforgettable experience where </span><strong>education meets entertainment</strong><span style="color:rgb(0\, 0\, 0)\; font-family:montserrat\,sans-serif\; font-size:11pt">\, and where memories&mdash\;and skills&mdash\;are built to last a lifetime.</span></p>\n\n<div>&nbsp\;</div>\n
LOCATION:North Idaho College Campus
UID:e.3132.7538
SEQUENCE:3
DTSTAMP:20260423T024812Z
URL:https://www.haydenchamber.org/events/details/broadway-experience-day-camp-week-3-7538
END:VEVENT

END:VCALENDAR
