BEGIN:VCALENDAR
VERSION:2.0
PRODID:-//ChamberMaster//Event Calendar 2.0//EN
METHOD:PUBLISH
X-PUBLISHED-TTL:P3D
REFRESH-INTERVAL:P3D
CALSCALE:GREGORIAN
BEGIN:VEVENT
DTSTART:20200507T170000Z
DTEND:20200507T180000Z
X-MICROSOFT-CDO-ALLDAYEVENT:FALSE
SUMMARY:Board of Directors VIRTUAL Meeting- May 2020
DESCRIPTION:Monthly Board of Directors Meeting for the\n\nHayden Chamber of Commerce Board of Directors
X-ALT-DESC;FMTTYPE=text/html:Monthly Board of Directors Meeting for the<br />\nHayden Chamber of Commerce Board of Directors
LOCATION:VIRTUAL - LINK WILL BE SENT TO BOARD MEMBERS
UID:e.3132.2980
SEQUENCE:3
DTSTAMP:20260420T022901Z
URL:https://www.haydenchamber.org/events/details/board-of-directors-virtual-meeting-may-2020-2980
END:VEVENT

END:VCALENDAR
