BEGIN:VCALENDAR
VERSION:2.0
PRODID:-//ChamberMaster//Event Calendar 2.0//EN
METHOD:PUBLISH
X-PUBLISHED-TTL:P3D
REFRESH-INTERVAL:P3D
CALSCALE:GREGORIAN
BEGIN:VEVENT
DTSTART:20200225T000000Z
DTEND:20200225T010000Z
X-MICROSOFT-CDO-ALLDAYEVENT:FALSE
SUMMARY:Banquet Committee Meeting Feb 2020
DESCRIPTION:Meeting for the 2020 Annual Banquet Committee\n\nfor the Hayden Chamber of Commerce
X-ALT-DESC;FMTTYPE=text/html:Meeting for the 2020 Annual Banquet Committee<br />\nfor the Hayden Chamber of Commerce
LOCATION:
UID:e.3132.2977
SEQUENCE:3
DTSTAMP:20260419T202728Z
URL:https://www.haydenchamber.org/events/details/banquet-committee-meeting-feb-2020-2977
END:VEVENT

END:VCALENDAR
