BEGIN:VCALENDAR
VERSION:2.0
PRODID:-//ChamberMaster//Event Calendar 2.0//EN
METHOD:PUBLISH
X-PUBLISHED-TTL:P3D
REFRESH-INTERVAL:P3D
CALSCALE:GREGORIAN
BEGIN:VEVENT
DTSTART:20200304T160000Z
DTEND:20200304T170000Z
X-MICROSOFT-CDO-ALLDAYEVENT:FALSE
SUMMARY:Ambassadors Meeting - March 4\, 2020
DESCRIPTION:HAYDEN CHAMBER AMBASSADORS\n\n\n\nMonthly Meeting\n\n\n\nOur Hayden Chamber Ambassadors meet each month to \n\nengage in lively conversation\, prepare for upcoming events such\n\nas Ribbon Cuttings\, Community Events and participation in the\n\nmany events that Hayden Chamber produces.
X-ALT-DESC;FMTTYPE=text/html:HAYDEN CHAMBER AMBASSADORS<br />\n<br />\nMonthly Meeting<br />\n<br />\nOur Hayden Chamber Ambassadors meet each month to&nbsp\;<br />\nengage in lively conversation\, prepare for upcoming events such<br />\nas Ribbon Cuttings\, Community Events and participation in the<br />\nmany events that Hayden Chamber produces.
LOCATION:The Wellness Bar in Hayden Creek Plaza Hayden\, Idaho
UID:e.3132.2973
SEQUENCE:3
DTSTAMP:20260419T215112Z
URL:https://www.haydenchamber.org/events/details/ambassadors-meeting-march-4-2020-2973
END:VEVENT

END:VCALENDAR
