BEGIN:VCALENDAR
VERSION:2.0
PRODID:-//ChamberMaster//Event Calendar 2.0//EN
METHOD:PUBLISH
X-PUBLISHED-TTL:P3D
REFRESH-INTERVAL:P3D
CALSCALE:GREGORIAN
BEGIN:VEVENT
DTSTART:20200401T150000Z
DTEND:20200401T160000Z
X-MICROSOFT-CDO-ALLDAYEVENT:FALSE
SUMMARY:Ambassadors Meeting - April 1\, 2020
DESCRIPTION:HAYDEN CHAMBER AMBASSADORS\n\n\n\nMonthly Meeting\n\n\n\nOur Hayden Chamber Ambassadors meet each month to \n\nengage in lively conversation\, prepare for upcoming events such\n\nas Ribbon Cuttings\, Community Events and participation in the\n\nmany events that Hayden Chamber produces.
X-ALT-DESC;FMTTYPE=text/html:HAYDEN CHAMBER AMBASSADORS<br />\n<br />\nMonthly Meeting<br />\n<br />\nOur Hayden Chamber Ambassadors meet each month to&nbsp\;<br />\nengage in lively conversation\, prepare for upcoming events such<br />\nas Ribbon Cuttings\, Community Events and participation in the<br />\nmany events that Hayden Chamber produces.
LOCATION:VIRTUAL MEETING - AMBASSADORS WILL RECEIVE AN EMAIL!
UID:e.3132.2974
SEQUENCE:3
DTSTAMP:20260419T233259Z
URL:https://www.haydenchamber.org/events/details/ambassadors-meeting-april-1-2020-2974
END:VEVENT

END:VCALENDAR
