BEGIN:VCALENDAR
VERSION:2.0
PRODID:-//ChamberMaster//Event Calendar 2.0//EN
METHOD:PUBLISH
X-PUBLISHED-TTL:P3D
REFRESH-INTERVAL:P3D
CALSCALE:GREGORIAN
BEGIN:VEVENT
DTSTART:20201121T190000Z
DTEND:20201121T220000Z
X-MICROSOFT-CDO-ALLDAYEVENT:FALSE
SUMMARY:Alice in Wonderland Tea Party & Murder Mystery
DESCRIPTION:Join us for our 1st ever tea party murder mystery! All characters will be gender neutral\, so the Mad Hatter\, for example\, can be male or female etc.\n\n\n\nThis mystery will be setup much differently than other mysteries we have hosted. It will take place seated around tables. Each guest will have questions to ask over the course of 4 rounds. Clues will be discovered along the way. There are 10 suspects & the remaining guests will be detectives (or you are welcome to purchase general admission and just observe.) All characters/guests will be trying to solve the murder\, the 10 suspects are just different in that they may discover THEY are the murderer!\n\n\n\nThere will be four courses provided during the tea party. Each course will correspond with a new round in the mystery. The courses will include: \n\n\n\nSoup\,\n\nScones w/Devonshire Cream & Lemon\, \n\nTea Sandwiches \n\nAsst Desserts. \n\n\n\nWe anticipate tickets selling out quick\, so you'll want to act fast! \n\n\n\nIf you have any questions at all\, please let us know!
X-ALT-DESC;FMTTYPE=text/html:<span style="background-color:rgb(255\, 255\, 255)\; color:rgb(29\, 33\, 41)\; font-family:helvetica\,arial\,sans-serif\; font-size:14px">Join us for our 1st ever tea party murder mystery! All characters will be gender neutral\, so the Mad Hatter\, for example\, can be male or female etc.</span><br />\n<br />\n<span style="background-color:rgb(255\, 255\, 255)\; color:rgb(29\, 33\, 41)\; font-family:helvetica\,arial\,sans-serif\; font-size:14px">This mystery will be setup much differently than other mysteries we have hosted. It will take place seated around tables. Each guest will have questions to ask over the course of 4 rounds. Clues will be discovered along the way. There are 10 suspects &amp\; the remaining guests will be detectives (or you are welcome to purchase general admission and just observe.) All characters/guests will be trying to solve the murder\, the 10 suspects are just different in that they may discover THEY are the murderer!</span><br />\n<br />\n<span style="background-color:rgb(255\, 255\, 255)\; color:rgb(29\, 33\, 41)\; font-family:helvetica\,arial\,sans-serif\; font-size:14px">There will be four courses provided during the tea party. Each course will correspond with a new round in the mystery. The courses will include: </span><br />\n<br />\n<span style="background-color:rgb(255\, 255\, 255)\; color:rgb(29\, 33\, 41)\; font-family:helvetica\,arial\,sans-serif\; font-size:14px">Soup\,</span><br />\n<span style="background-color:rgb(255\, 255\, 255)\; color:rgb(29\, 33\, 41)\; font-family:helvetica\,arial\,sans-serif\; font-size:14px">Scones w/Devonshire Cream &amp\; Lemon\, </span><br />\n<span style="background-color:rgb(255\, 255\, 255)\; color:rgb(29\, 33\, 41)\; font-family:helvetica\,arial\,sans-serif\; font-size:14px">Tea Sandwiches </span><br />\n<span style="background-color:rgb(255\, 255\, 255)\; color:rgb(29\, 33\, 41)\; font-family:helvetica\,arial\,sans-serif\; font-size:14px">Asst Desserts. </span><br />\n<br />\n<span style="background-color:rgb(255\, 255\, 255)\; color:rgb(29\, 33\, 41)\; font-family:helvetica\,arial\,sans-serif\; font-size:14px">We anticipate tickets selling out quick\, so you&#39\;ll want to act fast! </span><br />\n<br />\n<span style="background-color:rgb(255\, 255\, 255)\; color:rgb(29\, 33\, 41)\; font-family:helvetica\,arial\,sans-serif\; font-size:14px">If you have any questions at all\, please let us know!</span>
LOCATION:1701 N 4th St. Suite D Coeur d'Alene\, ID 83815 (Located on the Spruce St. side of the building. Corner of Spruce & 4th St.)
UID:e.3132.3134
SEQUENCE:3
DTSTAMP:20260422T000113Z
URL:https://www.haydenchamber.org/events/details/alice-in-wonderland-tea-party-murder-mystery-3134
END:VEVENT

END:VCALENDAR
